BEGIN:VCALENDAR
VERSION:2.0
PRODID:-//AEKV-SAD - ECPv6.15.20//NONSGML v1.0//EN
CALSCALE:GREGORIAN
METHOD:PUBLISH
X-WR-CALNAME:AEKV-SAD
X-ORIGINAL-URL:https://www.aekv-sad.de
X-WR-CALDESC:Veranstaltungen für AEKV-SAD
REFRESH-INTERVAL;VALUE=DURATION:PT1H
X-Robots-Tag:noindex
X-PUBLISHED-TTL:PT1H
BEGIN:VTIMEZONE
TZID:UTC
BEGIN:STANDARD
TZOFFSETFROM:+0000
TZOFFSETTO:+0000
TZNAME:UTC
DTSTART:20240101T000000
END:STANDARD
END:VTIMEZONE
BEGIN:VEVENT
DTSTART;VALUE=DATE:20251017
DTEND;VALUE=DATE:20251019
DTSTAMP:20260425T211027
CREATED:20250730T085016Z
LAST-MODIFIED:20250730T085016Z
UID:436-1760659200-1760831999@www.aekv-sad.de
SUMMARY:97. Jahrestagung der Bayerischen Nervenärzte
DESCRIPTION:Thema:\n 97. Jahrestagung der Bayerischen Nervenärzte \nReferent:\nSiehe Einladungsflyer… \nTermin:\nFreitag\, 17.10.2025 (13:00) und Samstag 18.10.2025 \nOrt:\nKloster Irsee ( Schwäbisches Tagungs- und Bildungszentrum)\, Klosterring 4\, 87660 Irsee \nHier Einladungsflyer als PDF
URL:https://www.aekv-sad.de/fortbildung/jahrestagung-der-bayerischen-nervenaerzte/
LOCATION:Kloster Irsee\, Klosterring 4\, Irsee\, 87660\, Germany
ORGANIZER;CN="Bildungswerk des Bayerischen Bezirketags":MAILTO:info@bildungswerk-irsee.de
END:VEVENT
END:VCALENDAR