BEGIN:VCALENDAR
VERSION:2.0
PRODID:-//AEKV-SAD - ECPv6.15.20//NONSGML v1.0//EN
CALSCALE:GREGORIAN
METHOD:PUBLISH
X-ORIGINAL-URL:https://www.aekv-sad.de
X-WR-CALDESC:Veranstaltungen für AEKV-SAD
REFRESH-INTERVAL;VALUE=DURATION:PT1H
X-Robots-Tag:noindex
X-PUBLISHED-TTL:PT1H
BEGIN:VTIMEZONE
TZID:UTC
BEGIN:STANDARD
TZOFFSETFROM:+0000
TZOFFSETTO:+0000
TZNAME:UTC
DTSTART:20240101T000000
END:STANDARD
END:VTIMEZONE
BEGIN:VEVENT
DTSTART;TZID=UTC:20250924T190000
DTEND;TZID=UTC:20250924T213000
DTSTAMP:20260425T221012
CREATED:20250910T084048Z
LAST-MODIFIED:20250910T084458Z
UID:442-1758740400-1758749400@www.aekv-sad.de
SUMMARY:„Alterstraumatologie im Krankenhaus St. Barbara“ mit anschließender Lernerfolgs-Kontrolle
DESCRIPTION:Thema:\n„Alterstraumatologie im Krankenhaus St. Barbara“ mit anschließender Lernerfolgs-Kontrolle \nReferenten und Referentinnen:\nFrau Adela Sala: Sektionsleitung Akutgeriatrie der Klinik für Gastroenterologie\nJulia Fritz: Leiterin der Abteilung für Physikalische Therapie\nDr. Horst Schneider: Chefarzt Unfallchirurgie\, Orthopädie u. Sportmedizin\nDr. Morris Wolter: Leitender Oberarzt für Orthopädie und Unfallchirurgie\nPD Dr. med. Florian Brettner: Chefarzt der Abteilung für Anästhesiologie und Intensivmedizin \nTermin:\nMittwoch\, 24. September 2025\, 19:00 Uhr bis ca.  21:30 Uhr \nOrt:\nNeue Eingangshalle des Krankenhauses St. Barbara \nHier Einladungsflyer als PDF
URL:https://www.aekv-sad.de/fortbildung/alterstraumatologie-im-krankenhaus-st-barbara-mit-anschliessender-lernerfolgs-kontrolle/
LOCATION:Krankenhaus St. Barbara Schwandorf\, Steinberger Straße 24 |\, Schwandorf\, 92421
ORGANIZER;CN="%C3%84rztlichen Kreisverbandes Schwandorf":MAILTO:Aerztlicher-Kreisverb.SAD@t-online.de
END:VEVENT
END:VCALENDAR