BEGIN:VCALENDAR
VERSION:2.0
PRODID:-//AEKV-SAD - ECPv6.15.20//NONSGML v1.0//EN
CALSCALE:GREGORIAN
METHOD:PUBLISH
X-WR-CALNAME:AEKV-SAD
X-ORIGINAL-URL:https://www.aekv-sad.de
X-WR-CALDESC:Veranstaltungen für AEKV-SAD
REFRESH-INTERVAL;VALUE=DURATION:PT1H
X-Robots-Tag:noindex
X-PUBLISHED-TTL:PT1H
BEGIN:VTIMEZONE
TZID:UTC
BEGIN:STANDARD
TZOFFSETFROM:+0000
TZOFFSETTO:+0000
TZNAME:UTC
DTSTART:20250101T000000
END:STANDARD
END:VTIMEZONE
BEGIN:VEVENT
DTSTART;TZID=UTC:20260506T190000
DTEND;TZID=UTC:20260506T213000
DTSTAMP:20260420T100226
CREATED:20230329T065905Z
LAST-MODIFIED:20260401T075100Z
UID:313-1778094000-1778103000@www.aekv-sad.de
SUMMARY:Supraventrikuläre Tachykardien - Diagnose und Therapiemöglichkeiten
DESCRIPTION:Thema:\nSupraventrikuläre Tachykardien – Diagnose und Therapiemöglichkeiten \nZeitpunkt:\nMittwoch\, den 6. Mai 2026 um 19:00 Uhr s.t. bis ca. 21:30 Uhr. \nReferent: \nHerr Dr. med. Norbert Heinicke\,\nLeitender Oberarzt der Abteilung für Innere Medizin\,\nKardiologie der Asklepios Klinik Burglengenfeld \nVeranstalter:\nÄrztlicher Kreisverband SAD \nVeranstaltungsort:\n Kebbel Villa\, Fronberger Straße 31\, 92421 Schwandorf (Fronberg)\, Tel.: 09431 9716 \nHier Einladungsflyer als PDF
URL:https://www.aekv-sad.de/fortbildung/diagnose-thrombose-wie-geht-es-weiter/
LOCATION:Kebbel-Villa Schwandorf\, Fronberger Str. 31\, Schwandorf\, Bayern\, 92421\, Deutschland
ORGANIZER;CN="%C3%84rztlichen Kreisverbandes Schwandorf":MAILTO:Aerztlicher-Kreisverb.SAD@t-online.de
END:VEVENT
END:VCALENDAR